BEGIN:VCALENDAR
VERSION:2.0
PRODID:-//For Fangers Pårørende - ECPv4.9.13//NONSGML v1.0//EN
CALSCALE:GREGORIAN
METHOD:PUBLISH
X-WR-CALNAME:For Fangers Pårørende
X-ORIGINAL-URL:https://ffp.no
X-WR-CALDESC:Events for For Fangers Pårørende
BEGIN:VTIMEZONE
TZID:Europe/Oslo
BEGIN:DAYLIGHT
TZOFFSETFROM:+0100
TZOFFSETTO:+0200
TZNAME:CEST
DTSTART:20240331T010000
END:DAYLIGHT
BEGIN:STANDARD
TZOFFSETFROM:+0200
TZOFFSETTO:+0100
TZNAME:CET
DTSTART:20241027T010000
END:STANDARD
END:VTIMEZONE
BEGIN:VEVENT
DTSTART;TZID=Europe/Oslo:20240228T140000
DTEND;TZID=Europe/Oslo:20240228T153000
DTSTAMP:20260424T064657
CREATED:20240214T122633Z
LAST-MODIFIED:20240214T122633Z
UID:436296-1709128800-1709134200@ffp.no
SUMMARY:Bergen: Treff for ungdommer
DESCRIPTION:Vi kommer til Bergen og arrangerer treff for ungdommer mellom 15-2o år. \nPåmeldingsfrist 20. februar kl. 12. \nFor mer informasjon og påmelding\, ta kontakt: post@ffp.no \n
URL:https://ffp.no/aktivitet/bergen-treff-for-ungdommer/
END:VEVENT
BEGIN:VEVENT
DTSTART;TZID=Europe/Oslo:20240228T163000
DTEND;TZID=Europe/Oslo:20240228T183000
DTSTAMP:20260424T064657
CREATED:20240214T122754Z
LAST-MODIFIED:20240214T122754Z
UID:436298-1709137800-1709145000@ffp.no
SUMMARY:Bergen: Kino
DESCRIPTION:Bli med oss å se familiefilmen Wonka (med norsk tale) på Bergen kino! \nPåmeldingsfrist 20. februar kl. 12. \nFor spørsmål og påmelding: post@ffp.no \n
URL:https://ffp.no/aktivitet/bergen-kino/
END:VEVENT
BEGIN:VEVENT
DTSTART;TZID=Europe/Oslo:20240228T190000
DTEND;TZID=Europe/Oslo:20240228T210000
DTSTAMP:20260424T064657
CREATED:20240214T122858Z
LAST-MODIFIED:20240214T122858Z
UID:436300-1709146800-1709154000@ffp.no
SUMMARY:Bergen: Ut å spise
DESCRIPTION:Vil du være med å møte andre pårørende? Bli med oss ut å spise på Egon. \nPåmeldingsfrist 20. februar kl. 12. \nFor spørsmål og påmelding: post@ffp.no \n
URL:https://ffp.no/aktivitet/bergen-ut-a-spise/
END:VEVENT
END:VCALENDAR