BEGIN:VCALENDAR
VERSION:2.0
PRODID:-//For Fangers Pårørende - ECPv4.9.13//NONSGML v1.0//EN
CALSCALE:GREGORIAN
METHOD:PUBLISH
X-WR-CALNAME:For Fangers Pårørende
X-ORIGINAL-URL:https://ffp.no
X-WR-CALDESC:Events for For Fangers Pårørende
BEGIN:VTIMEZONE
TZID:Europe/Oslo
BEGIN:DAYLIGHT
TZOFFSETFROM:+0100
TZOFFSETTO:+0200
TZNAME:CEST
DTSTART:20230326T010000
END:DAYLIGHT
BEGIN:STANDARD
TZOFFSETFROM:+0200
TZOFFSETTO:+0100
TZNAME:CET
DTSTART:20231029T010000
END:STANDARD
END:VTIMEZONE
BEGIN:VEVENT
DTSTART;TZID=Europe/Oslo:20231102T170000
DTEND;TZID=Europe/Oslo:20231102T190000
DTSTAMP:20260424T132040
CREATED:20231005T123337Z
LAST-MODIFIED:20231005T123337Z
UID:436200-1698944400-1698951600@ffp.no
SUMMARY:Bodø: Pårørendetreff
DESCRIPTION:\nFor Fangers Pårørende (FFP) inviterer til uformelt pårørendetreff for pårørende til arresterte\, varetektsinnsatte og domfelte i Bodø og omegn. Vi vet at mange føler seg alene i sin situasjon og kan ha godt av å treffe andre. Kanskje gjelder dette deg? \nDet vil bli servert kaffe/te og søtmat. \nTreffet finner sted i  Dronningens gate 18\, og ledes av Per Lind\, frivillig i FFP\, og Christina Ellefsen\, fengselsdiakon i Bodø fengsel.\n \nPåmelding til trondelag@ffp.no eller 940 03 120 senest onsdag 1. nov innen kl. 12 \n  \n  \n\n+ GOOGLE KALENDER+ ICAL EKSPORT\n
URL:https://ffp.no/aktivitet/bodo-parorendetreff-3/
END:VEVENT
END:VCALENDAR