BEGIN:VCALENDAR
VERSION:2.0
PRODID:-//For Fangers Pårørende - ECPv4.9.13//NONSGML v1.0//EN
CALSCALE:GREGORIAN
METHOD:PUBLISH
X-WR-CALNAME:For Fangers Pårørende
X-ORIGINAL-URL:https://ffp.no
X-WR-CALDESC:Events for For Fangers Pårørende
BEGIN:VTIMEZONE
TZID:Europe/Oslo
BEGIN:DAYLIGHT
TZOFFSETFROM:+0100
TZOFFSETTO:+0200
TZNAME:CEST
DTSTART:20230326T010000
END:DAYLIGHT
BEGIN:STANDARD
TZOFFSETFROM:+0200
TZOFFSETTO:+0100
TZNAME:CET
DTSTART:20231029T010000
END:STANDARD
END:VTIMEZONE
BEGIN:VEVENT
DTSTART;TZID=Europe/Oslo:20230928T170000
DTEND;TZID=Europe/Oslo:20230928T190000
DTSTAMP:20260424T142611
CREATED:20230904T121930Z
LAST-MODIFIED:20230904T121930Z
UID:436140-1695920400-1695927600@ffp.no
SUMMARY:Bodø: Pårørendetreff
DESCRIPTION:For Fangers Pårørende (FFP) inviterer til uformelt pårørendetreff for pårørende til arresterte\, varetektsinnsatte og domfelte i Bodø og omegn. Vi vet at mange føler seg alene i sin situasjon og kan ha godt av å treffe andre. Kanskje gjelder dette deg? \nDet vil bli servert kaffe/te og søtmat. \nTreffet finner sted i Kirkens Bymisjon sine lokaler\, Bankgata 9\, og ledes av Per Lind\, frivillig i FFP\, og Christina Ellefsen\, fengselsdiakon i Bodø fengsel.\n \nPåmelding til trondelag@ffp.no eller 940 03 120 senest onsdag 27. sept innen kl. 12 \n \n \n
URL:https://ffp.no/aktivitet/bodo-parorendetreff-2/
END:VEVENT
END:VCALENDAR