BEGIN:VCALENDAR
VERSION:2.0
PRODID:-//For Fangers Pårørende - ECPv4.9.13//NONSGML v1.0//EN
CALSCALE:GREGORIAN
METHOD:PUBLISH
X-WR-CALNAME:For Fangers Pårørende
X-ORIGINAL-URL:https://ffp.no
X-WR-CALDESC:Events for For Fangers Pårørende
BEGIN:VTIMEZONE
TZID:Europe/Oslo
BEGIN:DAYLIGHT
TZOFFSETFROM:+0100
TZOFFSETTO:+0200
TZNAME:CEST
DTSTART:20230326T010000
END:DAYLIGHT
BEGIN:STANDARD
TZOFFSETFROM:+0200
TZOFFSETTO:+0100
TZNAME:CET
DTSTART:20231029T010000
END:STANDARD
END:VTIMEZONE
BEGIN:VEVENT
DTSTART;TZID=Europe/Oslo:20230622T120000
DTEND;TZID=Europe/Oslo:20230622T140000
DTSTAMP:20260424T204149
CREATED:20230302T171249Z
LAST-MODIFIED:20230302T171249Z
UID:435938-1687435200-1687442400@ffp.no
SUMMARY:Oslo: Formiddagstreff med is og jordbær
DESCRIPTION:Velkommen til et sommerlig formiddagstreff med is og jordbær. \nPåmelding til post@ffp.no \n
URL:https://ffp.no/aktivitet/oslo-formiddagstreff-med-is-og-jordbaer/
END:VEVENT
BEGIN:VEVENT
DTSTART;TZID=Europe/Oslo:20230622T170000
DTEND;TZID=Europe/Oslo:20230622T190000
DTSTAMP:20260424T204149
CREATED:20230613T115820Z
LAST-MODIFIED:20230613T115820Z
UID:436007-1687453200-1687460400@ffp.no
SUMMARY:Pårørendetreff i Bodø
DESCRIPTION:Vi starter opp pårørendetreff i Bodø ca. en gang i måneden. \nFørste treff blir torsdag 22. juni kl. 17-19 i Kirkens Bymisjon sine lokaler i Bankgata 9.\nTreffet ledes av Per Lind\, frivillig i FFP\, og Christina Ellefsen\, fengselsdiakon i Bodø fengsel. \nDet vil bli servert kaffe/te og søtmat. \nPåmelding til trondelag@ffp.no eller 940 03 120 senest onsdag 21. juni innen kl. 12. \nIkke nøl med å ta kontakt dersom du lurer på noe. \nHjertelig velkommen til treff! \n
URL:https://ffp.no/aktivitet/parorendetreff-i-bodo-2/
END:VEVENT
END:VCALENDAR