BEGIN:VCALENDAR
VERSION:2.0
PRODID:-//For Fangers Pårørende - ECPv4.9.13//NONSGML v1.0//EN
CALSCALE:GREGORIAN
METHOD:PUBLISH
X-WR-CALNAME:For Fangers Pårørende
X-ORIGINAL-URL:https://ffp.no
X-WR-CALDESC:Events for For Fangers Pårørende
BEGIN:VTIMEZONE
TZID:Europe/Oslo
BEGIN:DAYLIGHT
TZOFFSETFROM:+0100
TZOFFSETTO:+0200
TZNAME:CEST
DTSTART:20230326T010000
END:DAYLIGHT
BEGIN:STANDARD
TZOFFSETFROM:+0200
TZOFFSETTO:+0100
TZNAME:CET
DTSTART:20231029T010000
END:STANDARD
END:VTIMEZONE
BEGIN:VEVENT
DTSTART;TZID=Europe/Oslo:20230418T120000
DTEND;TZID=Europe/Oslo:20230418T140000
DTSTAMP:20260424T225321
CREATED:20230302T171016Z
LAST-MODIFIED:20230302T171016Z
UID:435934-1681819200-1681826400@ffp.no
SUMMARY:Oslo: Formiddagstreff med vafler
DESCRIPTION:Hjertelig velkommen til formiddagstreff i våre lokaler i Oslo. Vi serverer vafler. \nPåmelding til post@ffp.no \n
URL:https://ffp.no/aktivitet/oslo-formiddagstreff-med-vafler/
END:VEVENT
END:VCALENDAR