BEGIN:VCALENDAR
VERSION:2.0
PRODID:-//For Fangers Pårørende - ECPv4.9.13//NONSGML v1.0//EN
CALSCALE:GREGORIAN
METHOD:PUBLISH
X-WR-CALNAME:For Fangers Pårørende
X-ORIGINAL-URL:https://ffp.no
X-WR-CALDESC:Events for For Fangers Pårørende
BEGIN:VTIMEZONE
TZID:Europe/Oslo
BEGIN:DAYLIGHT
TZOFFSETFROM:+0100
TZOFFSETTO:+0200
TZNAME:CEST
DTSTART:20220327T010000
END:DAYLIGHT
BEGIN:STANDARD
TZOFFSETFROM:+0200
TZOFFSETTO:+0100
TZNAME:CET
DTSTART:20221030T010000
END:STANDARD
END:VTIMEZONE
BEGIN:VEVENT
DTSTART;TZID=Europe/Oslo:20220125T173000
DTEND;TZID=Europe/Oslo:20220125T193000
DTSTAMP:20260425T213336
CREATED:20220202T095217Z
LAST-MODIFIED:20220202T095217Z
UID:435617-1643131800-1643139000@ffp.no
SUMMARY:Trondheim: Skøytetur med kakao og bakst
DESCRIPTION:FFP spanderer kakao og bakst fra Bare Blåbær. Dersom du ikke har skøyter\, er\ndet gratis utlån rett ved. Aktiviteten passer for både ung og gammel! Ta på\ndere varme klær og bli med på en skøytetur midt i byen! \nPåmelding til trondelag@ffp.no eller mob. 940 03 120 \n
URL:https://ffp.no/aktivitet/trondheim-skoytetur-med-kakao-og-bakst/
END:VEVENT
END:VCALENDAR