BEGIN:VCALENDAR
VERSION:2.0
PRODID:-//For Fangers Pårørende - ECPv4.9.13//NONSGML v1.0//EN
CALSCALE:GREGORIAN
METHOD:PUBLISH
X-WR-CALNAME:For Fangers Pårørende
X-ORIGINAL-URL:https://ffp.no
X-WR-CALDESC:Events for For Fangers Pårørende
BEGIN:VTIMEZONE
TZID:Europe/Oslo
BEGIN:DAYLIGHT
TZOFFSETFROM:+0100
TZOFFSETTO:+0200
TZNAME:CEST
DTSTART:20210328T010000
END:DAYLIGHT
BEGIN:STANDARD
TZOFFSETFROM:+0200
TZOFFSETTO:+0100
TZNAME:CET
DTSTART:20211031T010000
END:STANDARD
END:VTIMEZONE
BEGIN:VEVENT
DTSTART;TZID=Europe/Oslo:20211130T170000
DTEND;TZID=Europe/Oslo:20211130T183000
DTSTAMP:20260425T230410
CREATED:20210923T111054Z
LAST-MODIFIED:20210923T111054Z
UID:435539-1638291600-1638297000@ffp.no
SUMMARY:Trondheim: Foreldretreff
DESCRIPTION:Er du forelder til en innsatt og ønsker å treffe andre foreldre i en liknende situasjon? Da kan du delta på foreldretreff! Du kan komme alene\, eller sammen partneren din så lenge denne er forelder\, steforelder eller liknende til den innsatte.  \nSted:  FFP Trøndelag\, Kjøpmannsgata 23\, Trondheim\nServering:    Pizza\, drikke og kaffe/te\nPåmelding:   Mandagen før innen kl. 12 \nTa veldig gjerne kontakt med oss på epost eller telefon. Vi håper å høre fra deg!  \nKontakt/påmelding: trondelag@ffp.no eller telefon/sms til 940 03 120  \nVennlig hilsen Anne Gro (sosionom) og Nina (familieterapeut) i FFP Trøndelag  \n
URL:https://ffp.no/aktivitet/trondheim-foreldretreff-19/
END:VEVENT
BEGIN:VEVENT
DTSTART;TZID=Europe/Oslo:20211130T180000
DTEND;TZID=Europe/Oslo:20211130T180000
DTSTAMP:20260425T230410
CREATED:20211004T114537Z
LAST-MODIFIED:20211004T114537Z
UID:435571-1638295200-1638295200@ffp.no
SUMMARY:Oslo: FFP Ung inviterer til Snøfall på teater
DESCRIPTION:Selma er ni år og foreldreløs. Hennes høyeste ønske er å ha en familie\, og dette\nskriver hun i et brev som hun sender til julenissen… Bli med på Snøfall på Oslo\nNye Teater tirsdag 30. november. Forestillingen begynner kl. 18.00 og vi\nmøtes i foajeen fra kl. 17.30. \nPåmelding til post@ffp.no\nFørstemann til mølla – vi har et begrenset antall billetter \n
URL:https://ffp.no/aktivitet/oslo-ffp-ung-inviterer-til-snofall-pa-teater-2/
LOCATION:Oslo Nye Teater\, Rosenkrantz gate 10\, Oslo\, 0159\, Norge
END:VEVENT
END:VCALENDAR