BEGIN:VCALENDAR
VERSION:2.0
PRODID:-//For Fangers Pårørende - ECPv4.9.13//NONSGML v1.0//EN
CALSCALE:GREGORIAN
METHOD:PUBLISH
X-WR-CALNAME:For Fangers Pårørende
X-ORIGINAL-URL:https://ffp.no
X-WR-CALDESC:Events for For Fangers Pårørende
BEGIN:VTIMEZONE
TZID:Europe/Oslo
BEGIN:DAYLIGHT
TZOFFSETFROM:+0100
TZOFFSETTO:+0200
TZNAME:CEST
DTSTART:20200329T010000
END:DAYLIGHT
BEGIN:STANDARD
TZOFFSETFROM:+0200
TZOFFSETTO:+0100
TZNAME:CET
DTSTART:20201025T010000
END:STANDARD
END:VTIMEZONE
BEGIN:VEVENT
DTSTART;TZID=Europe/Oslo:20200528T173000
DTEND;TZID=Europe/Oslo:20200528T190000
DTSTAMP:20260419T201146
CREATED:20200520T105102Z
LAST-MODIFIED:20200520T110437Z
UID:434963-1590687000-1590692400@ffp.no
SUMMARY:Videotreff om koronasituasjonen
DESCRIPTION:FFP inviterer voksne pårørende i hele Norge til videotreff! Her blir det anledning til både å snakke sammen om hvordan koronasituasjonen har påvirket dere og «deres» innsatt\, samt dele andre erfaringer og tanker om det å være pårørende. På treffet deltar også Bente og Hanne fra FFP. Ta gjerne med deg en kopp kaffe eller te til treffet! \nPåmelding innen onsdag 27. mai!\n \nPåmelding til alle aktiviteter:\nTlf. 22 11 41 30\, SMS 979 66 199 eller post@ffp.no \n
URL:https://ffp.no/aktivitet/videotreff-om-koronasituasjonen/
END:VEVENT
END:VCALENDAR