BEGIN:VCALENDAR
VERSION:2.0
PRODID:-//For Fangers Pårørende - ECPv4.9.13//NONSGML v1.0//EN
CALSCALE:GREGORIAN
METHOD:PUBLISH
X-WR-CALNAME:For Fangers Pårørende
X-ORIGINAL-URL:https://ffp.no
X-WR-CALDESC:Events for For Fangers Pårørende
BEGIN:VTIMEZONE
TZID:Europe/Oslo
BEGIN:DAYLIGHT
TZOFFSETFROM:+0100
TZOFFSETTO:+0200
TZNAME:CEST
DTSTART:20200329T010000
END:DAYLIGHT
BEGIN:STANDARD
TZOFFSETFROM:+0200
TZOFFSETTO:+0100
TZNAME:CET
DTSTART:20201025T010000
END:STANDARD
END:VTIMEZONE
BEGIN:VEVENT
DTSTART;TZID=Europe/Oslo:20201215T170000
DTEND;TZID=Europe/Oslo:20201215T190000
DTSTAMP:20260419T121154
CREATED:20201201T074306Z
LAST-MODIFIED:20201214T081011Z
UID:435293-1608051600-1608058800@ffp.no
SUMMARY:AVLYST - Trondheim: Walk and talk-gruppe
DESCRIPTION:Vil du blir med på tur? \nFFP Trøndelag inviterer til en gåtur sammen med rådgivere fra FFP og andre pårørende\nTIRSDAG 1 5. desember kl. 17. Vi avtaler hvor vi går med påmeldte. \nTa med egen kopp\, vi tar med noe varmt å drikke! \nVelkommen med på tur! \nPåmelding til trondelag@ffp.no eller 940 03 120 innen fredag 11.12 kl.12 \n
URL:https://ffp.no/aktivitet/trondheim-walk-and-talk-gruppe/
END:VEVENT
END:VCALENDAR