BEGIN:VCALENDAR
VERSION:2.0
PRODID:-//For Fangers Pårørende - ECPv4.9.13//NONSGML v1.0//EN
CALSCALE:GREGORIAN
METHOD:PUBLISH
X-WR-CALNAME:For Fangers Pårørende
X-ORIGINAL-URL:https://ffp.no
X-WR-CALDESC:Events for For Fangers Pårørende
BEGIN:VTIMEZONE
TZID:Europe/Oslo
BEGIN:DAYLIGHT
TZOFFSETFROM:+0100
TZOFFSETTO:+0200
TZNAME:CEST
DTSTART:20190331T010000
END:DAYLIGHT
BEGIN:STANDARD
TZOFFSETFROM:+0200
TZOFFSETTO:+0100
TZNAME:CET
DTSTART:20191027T010000
END:STANDARD
END:VTIMEZONE
BEGIN:VEVENT
DTSTART;TZID=Europe/Oslo:20190221T110000
DTEND;TZID=Europe/Oslo:20190221T140000
DTSTAMP:20260421T094045
CREATED:20190128T132845Z
LAST-MODIFIED:20190128T132845Z
UID:315794-1550746800-1550757600@ffp.no
SUMMARY:Trondheim: Vinterferiekos
DESCRIPTION:Bli med på vår aktivitetsløype i byen\, før vi tar turen til Peppes Pizza sammen.  \nPasser for hele familien. \n
URL:https://ffp.no/aktivitet/trondheim-vinterferiekos/
END:VEVENT
END:VCALENDAR