BEGIN:VCALENDAR
VERSION:2.0
PRODID:-//For Fangers Pårørende - ECPv4.9.13//NONSGML v1.0//EN
CALSCALE:GREGORIAN
METHOD:PUBLISH
X-WR-CALNAME:For Fangers Pårørende
X-ORIGINAL-URL:https://ffp.no
X-WR-CALDESC:Events for For Fangers Pårørende
BEGIN:VTIMEZONE
TZID:Europe/Oslo
BEGIN:DAYLIGHT
TZOFFSETFROM:+0100
TZOFFSETTO:+0200
TZNAME:CEST
DTSTART:20210328T010000
END:DAYLIGHT
BEGIN:STANDARD
TZOFFSETFROM:+0200
TZOFFSETTO:+0100
TZNAME:CET
DTSTART:20211031T010000
END:STANDARD
END:VTIMEZONE
BEGIN:VEVENT
DTSTART;TZID=Europe/Oslo:20210217T170000
DTEND;TZID=Europe/Oslo:20210217T183000
DTSTAMP:20260419T134350
CREATED:20210210T070618Z
LAST-MODIFIED:20210210T070618Z
UID:435408-1613581200-1613586600@ffp.no
SUMMARY:Trondheim: Turgruppe
DESCRIPTION:Vil du bli med på tur? FFP Trøndelag inviterer til en gåtur sammen med rådgivere fra FFP og andre pårørende. Vi avtaler hvor vi går med påmeldte. Ta med egen kopp\, vi tar med kaffe og te. Velkommen med på tur! \nVi følger smittevernreglene satt av Trondheim kommune. \nMed forbehold om endringer. \nFor påmelding send en mail til trondelag@ffp.no eller en sms til 940 03 120. \n
URL:https://ffp.no/aktivitet/trondheim-turgruppe/
END:VEVENT
END:VCALENDAR