BEGIN:VCALENDAR
VERSION:2.0
PRODID:-//For Fangers Pårørende - ECPv4.9.13//NONSGML v1.0//EN
CALSCALE:GREGORIAN
METHOD:PUBLISH
X-WR-CALNAME:For Fangers Pårørende
X-ORIGINAL-URL:https://ffp.no
X-WR-CALDESC:Events for For Fangers Pårørende
BEGIN:VTIMEZONE
TZID:Europe/Oslo
BEGIN:DAYLIGHT
TZOFFSETFROM:+0100
TZOFFSETTO:+0200
TZNAME:CEST
DTSTART:20220327T010000
END:DAYLIGHT
BEGIN:STANDARD
TZOFFSETFROM:+0200
TZOFFSETTO:+0100
TZNAME:CET
DTSTART:20221030T010000
END:STANDARD
END:VTIMEZONE
BEGIN:VEVENT
DTSTART;TZID=Europe/Oslo:20220518T163000
DTEND;TZID=Europe/Oslo:20220518T190000
DTSTAMP:20260425T152031
CREATED:20220510T110705Z
LAST-MODIFIED:20220510T110705Z
UID:435676-1652891400-1652900400@ffp.no
SUMMARY:Trondheim: Pizza og minigolf
DESCRIPTION:FFP Trøndelag inviterer til pizza hos Peppes Pizza onsdag 18. mai kl. 16.30. Derfra går vi sammen bort til Trondheim Camping og spiller minigolf. Ta gjerne med en venn! \nPåmelding innen 16. mai til trondelag@ffp.no eller sms til 940 03 120. \n
URL:https://ffp.no/aktivitet/trondheim-pizza-og-minigolf/
END:VEVENT
END:VCALENDAR