BEGIN:VCALENDAR
VERSION:2.0
PRODID:-//For Fangers Pårørende - ECPv4.9.13//NONSGML v1.0//EN
CALSCALE:GREGORIAN
METHOD:PUBLISH
X-WR-CALNAME:For Fangers Pårørende
X-ORIGINAL-URL:https://ffp.no
X-WR-CALDESC:Events for For Fangers Pårørende
BEGIN:VTIMEZONE
TZID:Europe/Oslo
BEGIN:DAYLIGHT
TZOFFSETFROM:+0100
TZOFFSETTO:+0200
TZNAME:CEST
DTSTART:20200329T010000
END:DAYLIGHT
BEGIN:STANDARD
TZOFFSETFROM:+0200
TZOFFSETTO:+0100
TZNAME:CET
DTSTART:20201025T010000
END:STANDARD
END:VTIMEZONE
BEGIN:VEVENT
DTSTART;TZID=Europe/Oslo:20200318T163000
DTEND;TZID=Europe/Oslo:20200318T193000
DTSTAMP:20260419T203048
CREATED:20200107T092937Z
LAST-MODIFIED:20200107T092937Z
UID:434765-1584549000-1584559800@ffp.no
SUMMARY:Trondheim: Keramikkurs
DESCRIPTION:Bli med på keramikkurs med keramiker Franz Klammer. \nVi lager skål. Senere vil det bli anledning til å glasere keramikken i Franz Klammer sitt keramikkverksted på Ila. \nSted: FFP Trøndelag sine lokaler i Kjøpmannsgata 23. \nKurset passer for både barn og voksne. Du får utstyret du trenger der. \n
URL:https://ffp.no/aktivitet/trondheim-keramikkurs/
END:VEVENT
END:VCALENDAR