BEGIN:VCALENDAR
VERSION:2.0
PRODID:-//For Fangers Pårørende - ECPv4.9.13//NONSGML v1.0//EN
CALSCALE:GREGORIAN
METHOD:PUBLISH
X-WR-CALNAME:For Fangers Pårørende
X-ORIGINAL-URL:https://ffp.no
X-WR-CALDESC:Events for For Fangers Pårørende
BEGIN:VTIMEZONE
TZID:Europe/Oslo
BEGIN:DAYLIGHT
TZOFFSETFROM:+0100
TZOFFSETTO:+0200
TZNAME:CEST
DTSTART:20240331T010000
END:DAYLIGHT
BEGIN:STANDARD
TZOFFSETFROM:+0200
TZOFFSETTO:+0100
TZNAME:CET
DTSTART:20241027T010000
END:STANDARD
END:VTIMEZONE
BEGIN:VEVENT
DTSTART;TZID=Europe/Oslo:20240529T173000
DTEND;TZID=Europe/Oslo:20240529T193000
DTSTAMP:20260424T015331
CREATED:20240129T105110Z
LAST-MODIFIED:20240129T105110Z
UID:436291-1717003800-1717011000@ffp.no
SUMMARY:Trondheim: Kajakktur langs Nidelva
DESCRIPTION:Vi gjentar dette populære tilbudet\, og håper på fint vær når vi blir med Trondheim kajakk på padletur ned Nidelva. Med instruktører. Passer fra 3 år. \nPåmelding til trondelag@ffp.no \n
URL:https://ffp.no/aktivitet/trondheim-kajakktur-langs-nidelva-4/
END:VEVENT
END:VCALENDAR