BEGIN:VCALENDAR
VERSION:2.0
PRODID:-//For Fangers Pårørende - ECPv4.9.13//NONSGML v1.0//EN
CALSCALE:GREGORIAN
METHOD:PUBLISH
X-WR-CALNAME:For Fangers Pårørende
X-ORIGINAL-URL:https://ffp.no
X-WR-CALDESC:Events for For Fangers Pårørende
BEGIN:VTIMEZONE
TZID:Europe/Oslo
BEGIN:DAYLIGHT
TZOFFSETFROM:+0100
TZOFFSETTO:+0200
TZNAME:CEST
DTSTART:20210328T010000
END:DAYLIGHT
BEGIN:STANDARD
TZOFFSETFROM:+0200
TZOFFSETTO:+0100
TZNAME:CET
DTSTART:20211031T010000
END:STANDARD
END:VTIMEZONE
BEGIN:VEVENT
DTSTART;TZID=Europe/Oslo:20211215T173000
DTEND;TZID=Europe/Oslo:20211215T193000
DTSTAMP:20260426T002547
CREATED:20211116T134042Z
LAST-MODIFIED:20211116T134042Z
UID:435576-1639589400-1639596600@ffp.no
SUMMARY:Trondheim: Juleforestilling på Voll gård
DESCRIPTION:Kom i julestemning på gården! Tausa møter dere ute på tunet\, og så går vi inn i fjøsstua/kafeen og har juleverksted og det serveres grøt til alle. Etterpå går vi ut for å se på dyra\, kjøre hest og slede\, og kanskje møter vi fjøsnissen. I bålhuset kan du få gløgg og pepperkaker. \nBegrenset antall plasser! \n
URL:https://ffp.no/aktivitet/trondheim-juleforestilling-pa-voll-gard/
END:VEVENT
END:VCALENDAR