BEGIN:VCALENDAR
VERSION:2.0
PRODID:-//For Fangers Pårørende - ECPv4.9.13//NONSGML v1.0//EN
CALSCALE:GREGORIAN
METHOD:PUBLISH
X-WR-CALNAME:For Fangers Pårørende
X-ORIGINAL-URL:https://ffp.no
X-WR-CALDESC:Events for For Fangers Pårørende
BEGIN:VTIMEZONE
TZID:Europe/Oslo
BEGIN:DAYLIGHT
TZOFFSETFROM:+0100
TZOFFSETTO:+0200
TZNAME:CEST
DTSTART:20230326T010000
END:DAYLIGHT
BEGIN:STANDARD
TZOFFSETFROM:+0200
TZOFFSETTO:+0100
TZNAME:CET
DTSTART:20231029T010000
END:STANDARD
END:VTIMEZONE
BEGIN:VEVENT
DTSTART;TZID=Europe/Oslo:20230602T163000
DTEND;TZID=Europe/Oslo:20230604T200000
DTSTAMP:20260421T032842
CREATED:20230302T165113Z
LAST-MODIFIED:20230302T165113Z
UID:435906-1685723400-1685908800@ffp.no
SUMMARY:Trondheim: Helgetur til Smøla
DESCRIPTION:Bli med oss på helgetur til vakre Veiholmen på Smøla. Vi tar hurtigbåten fra Trondheim. Mer informasjon kommer! \nPåmelding til trondelag@ffp.no \n
URL:https://ffp.no/aktivitet/trondheim-helgetur-til-smola-2/
END:VEVENT
END:VCALENDAR