BEGIN:VCALENDAR
VERSION:2.0
PRODID:-//For Fangers Pårørende - ECPv4.9.13//NONSGML v1.0//EN
CALSCALE:GREGORIAN
METHOD:PUBLISH
X-WR-CALNAME:For Fangers Pårørende
X-ORIGINAL-URL:https://ffp.no
X-WR-CALDESC:Events for For Fangers Pårørende
BEGIN:VTIMEZONE
TZID:Europe/Oslo
BEGIN:DAYLIGHT
TZOFFSETFROM:+0100
TZOFFSETTO:+0200
TZNAME:CEST
DTSTART:20210328T010000
END:DAYLIGHT
BEGIN:STANDARD
TZOFFSETFROM:+0200
TZOFFSETTO:+0100
TZNAME:CET
DTSTART:20211031T010000
END:STANDARD
END:VTIMEZONE
BEGIN:VEVENT
DTSTART;TZID=Europe/Oslo:20211008T163000
DTEND;TZID=Europe/Oslo:20211010T163000
DTSTAMP:20260420T050440
CREATED:20210909T075750Z
LAST-MODIFIED:20210909T075750Z
UID:435517-1633710600-1633883400@ffp.no
SUMMARY:Trondheim: Helgetur til Oppdal
DESCRIPTION:FFP Trøndelag inviterer på helgetur til Oppdal 8.-10. oktober. Vi bor på hytter på koselige Vekve hyttetun i Oppdal sentrum. FFP spanderer tog for de som ikke kjører egen bil\, for hyttene og for felles middager. Vi arrangerer forskjellige turer i nydelig Oppdalsnatur! Det vil også være anledning til å finne på egne ting om man ønsker det. \nDe som melder seg på får mer detaljert informasjon om turen\, men ta veldig gjerne kontakt hvis det er noe du lurer på. \nAvreise med tog 8.10 kl. 16.24 fra Trondheim S.\nHjemreise med tog 10.10 kl. 13 fra Oppdal. \nPåmelding til trondelag@ffp.no eller sms til 940 03 120\nPåmeldingfrist: Mandag 13. september.\nNB. Det er begrenset antall plasser. \n
URL:https://ffp.no/aktivitet/trondheim-helgetur-til-oppdal/
END:VEVENT
END:VCALENDAR