BEGIN:VCALENDAR
VERSION:2.0
PRODID:-//For Fangers Pårørende - ECPv4.9.13//NONSGML v1.0//EN
CALSCALE:GREGORIAN
METHOD:PUBLISH
X-WR-CALNAME:For Fangers Pårørende
X-ORIGINAL-URL:https://ffp.no
X-WR-CALDESC:Events for For Fangers Pårørende
BEGIN:VTIMEZONE
TZID:Europe/Oslo
BEGIN:DAYLIGHT
TZOFFSETFROM:+0100
TZOFFSETTO:+0200
TZNAME:CEST
DTSTART:20220327T010000
END:DAYLIGHT
BEGIN:STANDARD
TZOFFSETFROM:+0200
TZOFFSETTO:+0100
TZNAME:CET
DTSTART:20221030T010000
END:STANDARD
END:VTIMEZONE
BEGIN:VEVENT
DTSTART;TZID=Europe/Oslo:20220615T170000
DTEND;TZID=Europe/Oslo:20220615T193000
DTSTAMP:20260419T130155
CREATED:20220510T110945Z
LAST-MODIFIED:20220510T110945Z
UID:435678-1655312400-1655321400@ffp.no
SUMMARY:Trondheim: Grill og spill i Ringvebukta
DESCRIPTION:Onsdag 15. juni kl. 17 inviterer vi til sommeravslutning i Ringvebukta! \nMer informasjon kommer 🙂 \n
URL:https://ffp.no/aktivitet/trondheim-grill-og-spill-i-ringvebukta-2/
END:VEVENT
END:VCALENDAR