BEGIN:VCALENDAR
VERSION:2.0
PRODID:-//For Fangers Pårørende - ECPv4.9.13//NONSGML v1.0//EN
CALSCALE:GREGORIAN
METHOD:PUBLISH
X-WR-CALNAME:For Fangers Pårørende
X-ORIGINAL-URL:https://ffp.no
X-WR-CALDESC:Events for For Fangers Pårørende
BEGIN:VTIMEZONE
TZID:Europe/Oslo
BEGIN:DAYLIGHT
TZOFFSETFROM:+0100
TZOFFSETTO:+0200
TZNAME:CEST
DTSTART:20200329T010000
END:DAYLIGHT
BEGIN:STANDARD
TZOFFSETFROM:+0200
TZOFFSETTO:+0100
TZNAME:CET
DTSTART:20201025T010000
END:STANDARD
END:VTIMEZONE
BEGIN:VEVENT
DTSTART;TZID=Europe/Oslo:20200617T110000
DTEND;TZID=Europe/Oslo:20200617T140000
DTSTAMP:20260419T145742
CREATED:20200609T122134Z
LAST-MODIFIED:20200609T122134Z
UID:435050-1592391600-1592402400@ffp.no
SUMMARY:Trondheim: Formiddagstur langs Ladestien
DESCRIPTION:FORMIDDAGSTUR PÅ LADESTIEN\nMED KAFFE OG ISPAUSE PÅ LADEKAIA \nDato:                         Onsdag 17. juni\nTidspunkt:              Kl. 11 til ca. kl. 14\nOppmøte:                Rotvollfjæra \nEndelig kan vi møtes! \nFFP inviterer til formiddagstur onsdag 17. juni. Vi rusler i et behagelig tempo fra Rotvollfjæra til Ladekaia\, hvor vi avslutter turen med kaffe (eller annen drikke) og is. \nPåmeldingsfrist: Tirsdag 16. juni kl. 12 \nTa gjerne med enn venn om du ønsker det 😊\nAlle våre aktiviteter er gratis. \nVel møtt! \nVennlig hilsen Nina og Anne Gro \n
URL:https://ffp.no/aktivitet/trondheim-formiddagstur-langs-ladestien/
END:VEVENT
END:VCALENDAR