BEGIN:VCALENDAR
VERSION:2.0
PRODID:-//For Fangers Pårørende - ECPv4.9.13//NONSGML v1.0//EN
CALSCALE:GREGORIAN
METHOD:PUBLISH
X-WR-CALNAME:For Fangers Pårørende
X-ORIGINAL-URL:https://ffp.no
X-WR-CALDESC:Events for For Fangers Pårørende
BEGIN:VTIMEZONE
TZID:Europe/Oslo
BEGIN:DAYLIGHT
TZOFFSETFROM:+0100
TZOFFSETTO:+0200
TZNAME:CEST
DTSTART:20190331T010000
END:DAYLIGHT
BEGIN:STANDARD
TZOFFSETFROM:+0200
TZOFFSETTO:+0100
TZNAME:CET
DTSTART:20191027T010000
END:STANDARD
END:VTIMEZONE
BEGIN:VEVENT
DTSTART;TZID=Europe/Oslo:20190225T120000
DTEND;TZID=Europe/Oslo:20190225T140000
DTSTAMP:20260421T110926
CREATED:20190129T080227Z
LAST-MODIFIED:20190212T134615Z
UID:317891-1551096000-1551103200@ffp.no
SUMMARY:Trondheim: Foreldretreff
DESCRIPTION:Vi arrangerer uformelt formiddagstreff for foreldre til innsatte\, seks ganger denne våren. Kom og møt rådgivere i FFP og andre i samme situasjon. Vi serverer kaffe/te\, frukt og kjeks. \n
URL:https://ffp.no/aktivitet/trondheim-foreldretreff-5/
END:VEVENT
END:VCALENDAR