BEGIN:VCALENDAR
VERSION:2.0
PRODID:-//For Fangers Pårørende - ECPv4.9.13//NONSGML v1.0//EN
CALSCALE:GREGORIAN
METHOD:PUBLISH
X-WR-CALNAME:For Fangers Pårørende
X-ORIGINAL-URL:https://ffp.no
X-WR-CALDESC:Events for For Fangers Pårørende
BEGIN:VTIMEZONE
TZID:Europe/Oslo
BEGIN:DAYLIGHT
TZOFFSETFROM:+0100
TZOFFSETTO:+0200
TZNAME:CEST
DTSTART:20190331T010000
END:DAYLIGHT
BEGIN:STANDARD
TZOFFSETFROM:+0200
TZOFFSETTO:+0100
TZNAME:CET
DTSTART:20191027T010000
END:STANDARD
END:VTIMEZONE
BEGIN:VEVENT
DTSTART;TZID=Europe/Oslo:20191114T190000
DTEND;TZID=Europe/Oslo:20191114T213000
DTSTAMP:20260419T203048
CREATED:20191003T120309Z
LAST-MODIFIED:20191003T120309Z
UID:434703-1573758000-1573767000@ffp.no
SUMMARY:Trondheim: Dødsdansen på Trøndelag Teater
DESCRIPTION:Bli med på teater å se den svarte komedien Dødsdansen. \nFor voksne pårørende. \nPåmeldingsfrist torsdag 31.oktober kl. 12 \n
URL:https://ffp.no/aktivitet/trondheim-dodsdansen-pa-trondelag-teater/
END:VEVENT
END:VCALENDAR