BEGIN:VCALENDAR
VERSION:2.0
PRODID:-//For Fangers Pårørende - ECPv4.9.13//NONSGML v1.0//EN
CALSCALE:GREGORIAN
METHOD:PUBLISH
X-WR-CALNAME:For Fangers Pårørende
X-ORIGINAL-URL:https://ffp.no
X-WR-CALDESC:Events for For Fangers Pårørende
BEGIN:VTIMEZONE
TZID:Europe/Oslo
BEGIN:DAYLIGHT
TZOFFSETFROM:+0100
TZOFFSETTO:+0200
TZNAME:CEST
DTSTART:20210328T010000
END:DAYLIGHT
BEGIN:STANDARD
TZOFFSETFROM:+0200
TZOFFSETTO:+0100
TZNAME:CET
DTSTART:20211031T010000
END:STANDARD
END:VTIMEZONE
BEGIN:VEVENT
DTSTART;TZID=Europe/Oslo:20210224T183000
DTEND;TZID=Europe/Oslo:20210224T203000
DTSTAMP:20260419T170416
CREATED:20210210T065702Z
LAST-MODIFIED:20210210T065812Z
UID:435400-1614191400-1614198600@ffp.no
SUMMARY:Trondheim: Den hemmelige hagen på Trøndelag Teater
DESCRIPTION:Bli med på teater og se en kjær barneklassiker.\nDette er en prøveforestilling og vi har begrenset antall billetter.\nForestillingen passer for skolebarn. \nFor påmelding send en mail til trondelag@ffp.no eller en sms til 940 03 120. \n  \n
URL:https://ffp.no/aktivitet/trondheim-den-hemmelige-hagen-pa-trondelag-teater/
END:VEVENT
END:VCALENDAR