BEGIN:VCALENDAR
VERSION:2.0
PRODID:-//For Fangers Pårørende - ECPv4.9.13//NONSGML v1.0//EN
CALSCALE:GREGORIAN
METHOD:PUBLISH
X-WR-CALNAME:For Fangers Pårørende
X-ORIGINAL-URL:https://ffp.no
X-WR-CALDESC:Events for For Fangers Pårørende
BEGIN:VTIMEZONE
TZID:Europe/Oslo
BEGIN:DAYLIGHT
TZOFFSETFROM:+0100
TZOFFSETTO:+0200
TZNAME:CEST
DTSTART:20200329T010000
END:DAYLIGHT
BEGIN:STANDARD
TZOFFSETFROM:+0200
TZOFFSETTO:+0100
TZNAME:CET
DTSTART:20201025T010000
END:STANDARD
END:VTIMEZONE
BEGIN:VEVENT
DTSTART;TZID=Europe/Oslo:20200212T190000
DTEND;TZID=Europe/Oslo:20200212T210000
DTSTAMP:20260419T150942
CREATED:20200128T094246Z
LAST-MODIFIED:20200128T094246Z
UID:434842-1581534000-1581541200@ffp.no
SUMMARY:Tromsø: Pårørendetreff
DESCRIPTION:Treff og samtaler i Tromsø for pårørende til innsatte og straffedømte \nHar du et familiemedlem i fengsel eller som soner straff utenfor fengsel? For Fangers Pårørende (FFP) ønsker velkommen til treff for pårørende til innsatte/straffedømte. \n– Få informasjon om FFP\, få svar på spørsmål\n– Del erfaringer fra å besøke i fengsel osv.\n– Møt andre i en lignende situasjon\n– Kom gjerne med innspill og ønsker \nFFP jobber for å bedre situasjonen for pårørende til innsatte. \nSamtale med rådgiver\nDu kan også avtale tid for individuell samtale eller familiesamtale med rådgivere fra FFP. \nPÅRØRENDETREFF \nTid: Onsdag 12. februar kl. 19-21\nSted: Clarion Collection Hotel Aurora\, Sjøgata 19-21\, Tromsø\nEnkel servering. Ta gjerne med en venn om du vil.\n\nSAMTALER MED RÅDGIVER \nTid: Torsdag 13. februar i tidsrommet kl. 09-15\nSted: Clarion Collection Hotel Aurora\, Sjøgata 19-21\, Tromsø \nPåmeldingsfrist (begge deler): Mandag 10. februar\nE-post: trondelag@ffp.no\, telefon 73 51 19 29 eller SMS 940 03 120 \nLang/dyr reisevei? – Ta kontakt for å høre om mulighet for reisestøtte!\n\nVi håper mange har lyst til å komme til treffet\, og ønsker velkommen!\nTa gjerne kontakt om du har spørsmål\, innspill eller ønsker mer informasjon. \nPlaner framover: FFP er i dialog med en lokal kontaktperson som kan tilrettelegge for nye treff og aktiviteter for pårørende – både for barn\, ungdom og voksne. \n
URL:https://ffp.no/aktivitet/tromso-parorendetreff/
END:VEVENT
END:VCALENDAR