BEGIN:VCALENDAR
VERSION:2.0
PRODID:-//For Fangers Pårørende - ECPv4.9.13//NONSGML v1.0//EN
CALSCALE:GREGORIAN
METHOD:PUBLISH
X-WR-CALNAME:For Fangers Pårørende
X-ORIGINAL-URL:https://ffp.no
X-WR-CALDESC:Events for For Fangers Pårørende
BEGIN:VTIMEZONE
TZID:Europe/Oslo
BEGIN:DAYLIGHT
TZOFFSETFROM:+0100
TZOFFSETTO:+0200
TZNAME:CEST
DTSTART:20240331T010000
END:DAYLIGHT
BEGIN:STANDARD
TZOFFSETFROM:+0200
TZOFFSETTO:+0100
TZNAME:CET
DTSTART:20241027T010000
END:STANDARD
END:VTIMEZONE
BEGIN:VEVENT
DTSTART;TZID=Europe/Oslo:20240130T190000
DTEND;TZID=Europe/Oslo:20240130T203000
DTSTAMP:20260424T081622
CREATED:20240129T103535Z
LAST-MODIFIED:20240129T104302Z
UID:436281-1706641200-1706646600@ffp.no
SUMMARY:Trondheim: Teaterforestilling på Trøndelag Teater
DESCRIPTION:Teaterforestilling for voksne\, Størst av alt er kjærligheten:\nhttps://www.trondelag-teater.no/forestillinger/storst-av-alt-er-kjaerligheten \nBegrenset antall billetter.\nPåmelding til trondelag@ffp.no \n
URL:https://ffp.no/aktivitet/teaterforestilling-pa-trondelag-teater/
END:VEVENT
END:VCALENDAR