BEGIN:VCALENDAR
VERSION:2.0
PRODID:-//For Fangers Pårørende - ECPv4.9.13//NONSGML v1.0//EN
CALSCALE:GREGORIAN
METHOD:PUBLISH
X-WR-CALNAME:For Fangers Pårørende
X-ORIGINAL-URL:https://ffp.no
X-WR-CALDESC:Events for For Fangers Pårørende
BEGIN:VTIMEZONE
TZID:Europe/Oslo
BEGIN:DAYLIGHT
TZOFFSETFROM:+0100
TZOFFSETTO:+0200
TZNAME:CEST
DTSTART:20200329T010000
END:DAYLIGHT
BEGIN:STANDARD
TZOFFSETFROM:+0200
TZOFFSETTO:+0100
TZNAME:CET
DTSTART:20201025T010000
END:STANDARD
END:VTIMEZONE
BEGIN:VEVENT
DTSTART;TZID=Europe/Oslo:20201117T113000
DTEND;TZID=Europe/Oslo:20201117T133000
DTSTAMP:20260419T154151
CREATED:20200908T122651Z
LAST-MODIFIED:20200908T122651Z
UID:435164-1605612600-1605619800@ffp.no
SUMMARY:Oslo: Walk and talk-gruppe
DESCRIPTION:Vi inviterer til formiddagstreff/ walk and talk med FFP tirsdag 17. november fra kl. 11.30 til 13.30. \nHer kan du møte rådgivere fra FFP og andre pårørende. Enkel servering der smittevern er ivaretatt. Turen vil finne sted i Oslo\, og vi avtaler nærmere. \nVi vil gjerne at alle leser FFPs smittevernregler før deltakelse. \nPåmelding innen mandag 16. november til post@ffp.no\, 22 11 41 30\, eller 979 66 199.  \n
URL:https://ffp.no/aktivitet/oslo-walk-and-talk-gruppe-2/
END:VEVENT
END:VCALENDAR