BEGIN:VCALENDAR
VERSION:2.0
PRODID:-//For Fangers Pårørende - ECPv4.9.13//NONSGML v1.0//EN
CALSCALE:GREGORIAN
METHOD:PUBLISH
X-WR-CALNAME:For Fangers Pårørende
X-ORIGINAL-URL:https://ffp.no
X-WR-CALDESC:Events for For Fangers Pårørende
BEGIN:VTIMEZONE
TZID:Europe/Oslo
BEGIN:DAYLIGHT
TZOFFSETFROM:+0100
TZOFFSETTO:+0200
TZNAME:CEST
DTSTART:20200329T010000
END:DAYLIGHT
BEGIN:STANDARD
TZOFFSETFROM:+0200
TZOFFSETTO:+0100
TZNAME:CET
DTSTART:20201025T010000
END:STANDARD
END:VTIMEZONE
BEGIN:VEVENT
DTSTART;TZID=Europe/Oslo:20200224T170000
DTEND;TZID=Europe/Oslo:20200224T190000
DTSTAMP:20260421T081004
CREATED:20200121T125822Z
LAST-MODIFIED:20200121T132932Z
UID:434793-1582563600-1582570800@ffp.no
SUMMARY:Oslo: Støttegruppe for foreldre til innsatte
DESCRIPTION:Er du mor eller far til en som sitter i fengsel? \nFFP inviterer til treff mandag 24. februar hos FFP i nye lokaler i St. Olavsgate 21A\, 1. etg.\, fra kl. 17 til 19.\nHer kan du treffe andre pårørende som har en sønn eller datter i fengsel\, og snakke med rådgivere i FFP. Vi serverer ost og kjeks. \nPåmelding innen torsdag 20. februar \n
URL:https://ffp.no/aktivitet/oslo-stottegruppe-for-foreldre-til-innsatte/
LOCATION:FFP\, St. Olavs gate 21A\, Oslo\, 0165
END:VEVENT
END:VCALENDAR