BEGIN:VCALENDAR
VERSION:2.0
PRODID:-//For Fangers Pårørende - ECPv4.9.13//NONSGML v1.0//EN
CALSCALE:GREGORIAN
METHOD:PUBLISH
X-WR-CALNAME:For Fangers Pårørende
X-ORIGINAL-URL:https://ffp.no
X-WR-CALDESC:Events for For Fangers Pårørende
BEGIN:VTIMEZONE
TZID:Europe/Oslo
BEGIN:DAYLIGHT
TZOFFSETFROM:+0100
TZOFFSETTO:+0200
TZNAME:CEST
DTSTART:20200329T010000
END:DAYLIGHT
BEGIN:STANDARD
TZOFFSETFROM:+0200
TZOFFSETTO:+0100
TZNAME:CET
DTSTART:20201025T010000
END:STANDARD
END:VTIMEZONE
BEGIN:VEVENT
DTSTART;TZID=Europe/Oslo:20200427T170000
DTEND;TZID=Europe/Oslo:20200427T190000
DTSTAMP:20260419T185218
CREATED:20200121T141043Z
LAST-MODIFIED:20200415T085537Z
UID:434822-1588006800-1588014000@ffp.no
SUMMARY:AVLYST - Oslo: Støttegruppe for foreldre til innsatte
DESCRIPTION:Er du mor eller far til en som sitter i fengsel? \nFFP inviterer til treff mandag 27. april hos FFP i St. Olavsgate 21B\, 4 etg.\, fra kl. 17 til 19.\nHer kan du treffe andre pårørende som har en sønn eller datter i fengsel\, og snakke med rådgivere i FFP. Vi serverer ost og kjeks. \nPåmelding innen fredag 24. april \n
URL:https://ffp.no/aktivitet/oslo-stottegruppe-for-foreldre-til-innsatte-3/
LOCATION:FFP\, St. Olavs gate 21B\, Oslo\, 0165
END:VEVENT
END:VCALENDAR