BEGIN:VCALENDAR
VERSION:2.0
PRODID:-//For Fangers Pårørende - ECPv4.9.13//NONSGML v1.0//EN
CALSCALE:GREGORIAN
METHOD:PUBLISH
X-WR-CALNAME:For Fangers Pårørende
X-ORIGINAL-URL:https://ffp.no
X-WR-CALDESC:Events for For Fangers Pårørende
BEGIN:VTIMEZONE
TZID:Europe/Oslo
BEGIN:DAYLIGHT
TZOFFSETFROM:+0100
TZOFFSETTO:+0200
TZNAME:CEST
DTSTART:20200329T010000
END:DAYLIGHT
BEGIN:STANDARD
TZOFFSETFROM:+0200
TZOFFSETTO:+0100
TZNAME:CET
DTSTART:20201025T010000
END:STANDARD
END:VTIMEZONE
BEGIN:VEVENT
DTSTART;TZID=Europe/Oslo:20201117T180000
DTEND;TZID=Europe/Oslo:20201117T193000
DTSTAMP:20260419T141605
CREATED:20200908T123008Z
LAST-MODIFIED:20201117T074157Z
UID:435167-1605636000-1605641400@ffp.no
SUMMARY:Oslo: Digitalt kveldstreff for unge voksne
DESCRIPTION:Er du mellom 18 og 30 år og har lyst til å møte andre unge som også har et familiemedlem i fengsel? \nPå grunn av økt smitte og innstramminger i smittevernstiltak\, inviterer  FFP til digitalt treff tirsdag 17. november fra kl. 19.30 til 20.30 \nPåmelding innen mandag 16. november til post@ffp.no\, 22 11 41 30\, eller 979 66 199.  \n
URL:https://ffp.no/aktivitet/oslo-kveldstreff-for-unge-voksne-7/
LOCATION:FFP\, St. Olavs gate 21B\, Oslo\, 0165
END:VEVENT
END:VCALENDAR