BEGIN:VCALENDAR
VERSION:2.0
PRODID:-//For Fangers Pårørende - ECPv4.9.13//NONSGML v1.0//EN
CALSCALE:GREGORIAN
METHOD:PUBLISH
X-WR-CALNAME:For Fangers Pårørende
X-ORIGINAL-URL:https://ffp.no
X-WR-CALDESC:Events for For Fangers Pårørende
BEGIN:VTIMEZONE
TZID:Europe/Oslo
BEGIN:DAYLIGHT
TZOFFSETFROM:+0100
TZOFFSETTO:+0200
TZNAME:CEST
DTSTART:20230326T010000
END:DAYLIGHT
BEGIN:STANDARD
TZOFFSETFROM:+0200
TZOFFSETTO:+0100
TZNAME:CET
DTSTART:20231029T010000
END:STANDARD
END:VTIMEZONE
BEGIN:VEVENT
DTSTART;TZID=Europe/Oslo:20231214T183000
DTEND;TZID=Europe/Oslo:20231214T200000
DTSTAMP:20260424T095617
CREATED:20230912T065935Z
LAST-MODIFIED:20230912T065935Z
UID:436176-1702578600-1702584000@ffp.no
SUMMARY:Oslo: Julekonsert med Helene Bøksle
DESCRIPTION:Bli med på julekonsert me Helene Bøksle på Oslo konserthus. \nFor mer informasjon og påmelding: post@ffp.no \nLink til konserten \n
URL:https://ffp.no/aktivitet/oslo-julekonsert-med-helene-boksle/
END:VEVENT
END:VCALENDAR