BEGIN:VCALENDAR
VERSION:2.0
PRODID:-//For Fangers Pårørende - ECPv4.9.13//NONSGML v1.0//EN
CALSCALE:GREGORIAN
METHOD:PUBLISH
X-WR-CALNAME:For Fangers Pårørende
X-ORIGINAL-URL:https://ffp.no
X-WR-CALDESC:Events for For Fangers Pårørende
BEGIN:VTIMEZONE
TZID:Europe/Oslo
BEGIN:DAYLIGHT
TZOFFSETFROM:+0100
TZOFFSETTO:+0200
TZNAME:CEST
DTSTART:20230326T010000
END:DAYLIGHT
BEGIN:STANDARD
TZOFFSETFROM:+0200
TZOFFSETTO:+0100
TZNAME:CET
DTSTART:20231029T010000
END:STANDARD
END:VTIMEZONE
BEGIN:VEVENT
DTSTART;TZID=Europe/Oslo:20230426T180000
DTEND;TZID=Europe/Oslo:20230426T200000
DTSTAMP:20260421T081148
CREATED:20230302T170258Z
LAST-MODIFIED:20230302T170258Z
UID:435916-1682532000-1682539200@ffp.no
SUMMARY:Oslo: Foreldretreff
DESCRIPTION:Foreldretreff hos FFP i Oslo. Ta kontakt for mer informasjon og påmelding til post@ffp.no. \n
URL:https://ffp.no/aktivitet/oslo-foreldretreff-4/
END:VEVENT
END:VCALENDAR