BEGIN:VCALENDAR
VERSION:2.0
PRODID:-//For Fangers Pårørende - ECPv4.9.13//NONSGML v1.0//EN
CALSCALE:GREGORIAN
METHOD:PUBLISH
X-WR-CALNAME:For Fangers Pårørende
X-ORIGINAL-URL:https://ffp.no
X-WR-CALDESC:Events for For Fangers Pårørende
BEGIN:VTIMEZONE
TZID:Europe/Oslo
BEGIN:DAYLIGHT
TZOFFSETFROM:+0100
TZOFFSETTO:+0200
TZNAME:CEST
DTSTART:20200329T010000
END:DAYLIGHT
BEGIN:STANDARD
TZOFFSETFROM:+0200
TZOFFSETTO:+0100
TZNAME:CET
DTSTART:20201025T010000
END:STANDARD
END:VTIMEZONE
BEGIN:VEVENT
DTSTART;TZID=Europe/Oslo:20200613T080000
DTEND;TZID=Europe/Oslo:20200613T170000
DTSTAMP:20260419T132712
CREATED:20200114T123517Z
LAST-MODIFIED:20200415T085959Z
UID:434782-1592035200-1592067600@ffp.no
SUMMARY:AVLYST - Oslo: FFP Ung - Tusenfryd!!
DESCRIPTION:FFP Ung inviterer nok en gang barn\, unge og familier til å bli med på en morsom dag på Tusenfryd! \nVi ordner med lunsj der. Nærmere info om dette kommer! \nPåmelding innen 8. juni! \n
URL:https://ffp.no/aktivitet/oslo-ffp-ung-tusenfryd/
LOCATION:Tusenfryd\, Fryds Vei 25\, Vinterbro\, 1407
END:VEVENT
END:VCALENDAR