BEGIN:VCALENDAR
VERSION:2.0
PRODID:-//For Fangers Pårørende - ECPv4.9.13//NONSGML v1.0//EN
CALSCALE:GREGORIAN
METHOD:PUBLISH
X-WR-CALNAME:For Fangers Pårørende
X-ORIGINAL-URL:https://ffp.no
X-WR-CALDESC:Events for For Fangers Pårørende
BEGIN:VTIMEZONE
TZID:Europe/Oslo
BEGIN:DAYLIGHT
TZOFFSETFROM:+0100
TZOFFSETTO:+0200
TZNAME:CEST
DTSTART:20190331T010000
END:DAYLIGHT
BEGIN:STANDARD
TZOFFSETFROM:+0200
TZOFFSETTO:+0100
TZNAME:CET
DTSTART:20191027T010000
END:STANDARD
END:VTIMEZONE
BEGIN:VEVENT
DTSTART;TZID=Europe/Oslo:20191205T173000
DTEND;TZID=Europe/Oslo:20191205T200000
DTSTAMP:20260426T035633
CREATED:20190916T083945Z
LAST-MODIFIED:20190916T083945Z
UID:434697-1575567000-1575576000@ffp.no
SUMMARY:Oslo FFP Ung: Snøfall på Oslo Nye teater
DESCRIPTION:FFP Ung inviterer barn og familier til å se julestykket Snøfall torsdag 5. desember. Stykket begynner kl. 18.00\, og vi møtes fra kl. 17:30 i foajeen i Rosenkrantzgate 10. \nI det klassiske eventyret Snøfall  følger vi Selma og vennene hennes på en reise for å finne hjem. \nPåmelding: Først til mølla – begrenset antall biletter! \n
URL:https://ffp.no/aktivitet/oslo-ffp-ung-snofall-pa-oslo-nye-teater/
LOCATION:Oslo Nye Teater\, Rosenkrantz gate 10\, Oslo\, 0159\, Norge
END:VEVENT
END:VCALENDAR