BEGIN:VCALENDAR
VERSION:2.0
PRODID:-//For Fangers Pårørende - ECPv4.9.13//NONSGML v1.0//EN
CALSCALE:GREGORIAN
METHOD:PUBLISH
X-WR-CALNAME:For Fangers Pårørende
X-ORIGINAL-URL:https://ffp.no
X-WR-CALDESC:Events for For Fangers Pårørende
BEGIN:VTIMEZONE
TZID:Europe/Oslo
BEGIN:DAYLIGHT
TZOFFSETFROM:+0100
TZOFFSETTO:+0200
TZNAME:CEST
DTSTART:20190331T010000
END:DAYLIGHT
BEGIN:STANDARD
TZOFFSETFROM:+0200
TZOFFSETTO:+0100
TZNAME:CET
DTSTART:20191027T010000
END:STANDARD
END:VTIMEZONE
BEGIN:VEVENT
DTSTART;TZID=Europe/Oslo:20191112T170000
DTEND;TZID=Europe/Oslo:20191112T190000
DTSTAMP:20260419T185616
CREATED:20191105T091849Z
LAST-MODIFIED:20191105T091849Z
UID:434728-1573578000-1573585200@ffp.no
SUMMARY:Oslo FFP Ung: Radio-workshop med Fantorangen!
DESCRIPTION:Tirsdag 12. november kl. 17.00-19.00 inviterer FFP Ung til en radio-workshop med selveste Fantorangen! \nFantorangen vil gjerne snakke med barn og unge som har eller har hatt en pappa\, mamma eller annet familiemedlem i fengsel. \nFantorangen trenger hjelp fra dere til å vite hva han skal spørre innsatte om. Etter at Fantorangen har snakket med barn i FFP Ung skal han nemlig inn til Oslo Fengsel og være med på et radioprogram som heter RøverRadio. Der skal innsatte få spørsmålene fra dere og svare på dem! \nHva ville DU spurt en som sitter i fengsel om? For eksempel: Hva spiser de til middag? Er det skummelt der? Hva kan man finne på i fengsel hvis man kjeder seg? \nFFP Ung serverer pizza! \nKitty og Mohamed fra FFP Ung vil være her\, sammen med Fantorangen og noen fra RøverRadio. \n  \nPåmelding innen mandag 11. november kl. 15.00\, enten på post@ffp.no\, SMS: 979 66 199\, \n eller tlf. 22 11 41 30. \n
URL:https://ffp.no/aktivitet/oslo-ffp-ung-radio-workshop-med-fantorangen/
LOCATION:FFP\, St. Olavs gate 21B\, Oslo\, 0165
END:VEVENT
END:VCALENDAR