BEGIN:VCALENDAR
VERSION:2.0
PRODID:-//For Fangers Pårørende - ECPv4.9.13//NONSGML v1.0//EN
CALSCALE:GREGORIAN
METHOD:PUBLISH
X-WR-CALNAME:For Fangers Pårørende
X-ORIGINAL-URL:https://ffp.no
X-WR-CALDESC:Events for For Fangers Pårørende
BEGIN:VTIMEZONE
TZID:Europe/Oslo
BEGIN:DAYLIGHT
TZOFFSETFROM:+0100
TZOFFSETTO:+0200
TZNAME:CEST
DTSTART:20200329T010000
END:DAYLIGHT
BEGIN:STANDARD
TZOFFSETFROM:+0200
TZOFFSETTO:+0100
TZNAME:CET
DTSTART:20201025T010000
END:STANDARD
END:VTIMEZONE
BEGIN:VEVENT
DTSTART;TZID=Europe/Oslo:20200129T170000
DTEND;TZID=Europe/Oslo:20200129T193000
DTSTAMP:20260419T182554
CREATED:20200114T122205Z
LAST-MODIFIED:20200114T122205Z
UID:434776-1580317200-1580326200@ffp.no
SUMMARY:Oslo: FFP Ung - Keramikkverksted og pizza
DESCRIPTION:FFP Ung inviterer barn\, familier og unge voksne mellom 18 og 30 år\, til en kreativ og morsom aktivitet på keramikkverksted onsdag 29. januar!\nVi holder på fra kl. 17.00 til 19.30. Alle får velge en gjenstand å glasere hver. Vi serverer pizza og drikke der! \nPåmelding innen mandag 27. januar kl. 12.00 \n
URL:https://ffp.no/aktivitet/oslo-ffp-ung-keramikkverksted-og-pizza/
LOCATION:Glazed and Amused\, Markveien 25A\, Oslo\, 0554
END:VEVENT
END:VCALENDAR