BEGIN:VCALENDAR
VERSION:2.0
PRODID:-//For Fangers Pårørende - ECPv4.9.13//NONSGML v1.0//EN
CALSCALE:GREGORIAN
METHOD:PUBLISH
X-WR-CALNAME:For Fangers Pårørende
X-ORIGINAL-URL:https://ffp.no
X-WR-CALDESC:Events for For Fangers Pårørende
BEGIN:VTIMEZONE
TZID:Europe/Oslo
BEGIN:DAYLIGHT
TZOFFSETFROM:+0100
TZOFFSETTO:+0200
TZNAME:CEST
DTSTART:20220327T010000
END:DAYLIGHT
BEGIN:STANDARD
TZOFFSETFROM:+0200
TZOFFSETTO:+0100
TZNAME:CET
DTSTART:20221030T010000
END:STANDARD
END:VTIMEZONE
BEGIN:VEVENT
DTSTART;TZID=Europe/Oslo:20220611T103000
DTEND;TZID=Europe/Oslo:20220611T190000
DTSTAMP:20260421T081040
CREATED:20220524T140035Z
LAST-MODIFIED:20220524T140035Z
UID:435685-1654943400-1654974000@ffp.no
SUMMARY:Oslo: FFP Ung drar til Tusenfryd!
DESCRIPTION:FFP Ung tar med barn\, unge og familier med et familiemedlem i fengsel eller som soner i samfunnet til å bli med på Tusenfryd\, lørdag 11. juni! \nDette er et medlemstilbud\, og påmeldingsskjema har blitt sendt til våre medlemmer 🙂 \n  \n  \n
URL:https://ffp.no/aktivitet/oslo-ffp-ung-drar-til-tusenfryd/
LOCATION:Tusenfryd\, Fryds Vei 25\, Vinterbro\, 1407
END:VEVENT
END:VCALENDAR