BEGIN:VCALENDAR
VERSION:2.0
PRODID:-//For Fangers Pårørende - ECPv4.9.13//NONSGML v1.0//EN
CALSCALE:GREGORIAN
METHOD:PUBLISH
X-WR-CALNAME:For Fangers Pårørende
X-ORIGINAL-URL:https://ffp.no
X-WR-CALDESC:Events for For Fangers Pårørende
BEGIN:VTIMEZONE
TZID:Europe/Oslo
BEGIN:DAYLIGHT
TZOFFSETFROM:+0100
TZOFFSETTO:+0200
TZNAME:CEST
DTSTART:20200329T010000
END:DAYLIGHT
BEGIN:STANDARD
TZOFFSETFROM:+0200
TZOFFSETTO:+0100
TZNAME:CET
DTSTART:20201025T010000
END:STANDARD
END:VTIMEZONE
BEGIN:VEVENT
DTSTART;TZID=Europe/Oslo:20200319T170000
DTEND;TZID=Europe/Oslo:20200319T193000
DTSTAMP:20260419T220440
CREATED:20200114T122806Z
LAST-MODIFIED:20200114T122806Z
UID:434779-1584637200-1584646200@ffp.no
SUMMARY:Oslo: FFP Ung besøker reptilparken!
DESCRIPTION:Bli med FFP Ung på Oslo Reptilpark og se kule slanger og kryp bli matet\, torsdag 19. mars\, kl. 17.00 – 19.00.\nEtterpå går vi til FFPs lokaler og spiser! \nPåmelding innen tirsdag 17. mars! \n
URL:https://ffp.no/aktivitet/oslo-ffp-ung-besoker-reptilparken/
LOCATION:Oslo Reptilpark\, St. Olavs gate 2\, Oslo\, 0165
END:VEVENT
END:VCALENDAR