BEGIN:VCALENDAR
VERSION:2.0
PRODID:-//For Fangers Pårørende - ECPv4.9.13//NONSGML v1.0//EN
CALSCALE:GREGORIAN
METHOD:PUBLISH
X-WR-CALNAME:For Fangers Pårørende
X-ORIGINAL-URL:https://ffp.no
X-WR-CALDESC:Events for For Fangers Pårørende
BEGIN:VTIMEZONE
TZID:Europe/Oslo
BEGIN:DAYLIGHT
TZOFFSETFROM:+0100
TZOFFSETTO:+0200
TZNAME:CEST
DTSTART:20230326T010000
END:DAYLIGHT
BEGIN:STANDARD
TZOFFSETFROM:+0200
TZOFFSETTO:+0100
TZNAME:CET
DTSTART:20231029T010000
END:STANDARD
END:VTIMEZONE
BEGIN:VEVENT
DTSTART;TZID=Europe/Oslo:20230124T180000
DTEND;TZID=Europe/Oslo:20230124T193000
DTSTAMP:20260425T032401
CREATED:20230302T170437Z
LAST-MODIFIED:20230302T170604Z
UID:435918-1674583200-1674588600@ffp.no
SUMMARY:Digitalt foreldretreff
DESCRIPTION:Treff for foreldre med en sønn eller en datter i fengsel. Ledes av rådgivere fra FFP. \nFor mer informasjon og påmelding send en mail til post@ffp.no \n
URL:https://ffp.no/aktivitet/oslo-digitalt-foreldretreff/
END:VEVENT
END:VCALENDAR