BEGIN:VCALENDAR
VERSION:2.0
PRODID:-//For Fangers Pårørende - ECPv4.9.13//NONSGML v1.0//EN
CALSCALE:GREGORIAN
METHOD:PUBLISH
X-WR-CALNAME:For Fangers Pårørende
X-ORIGINAL-URL:https://ffp.no
X-WR-CALDESC:Events for For Fangers Pårørende
BEGIN:VTIMEZONE
TZID:Europe/Oslo
BEGIN:DAYLIGHT
TZOFFSETFROM:+0100
TZOFFSETTO:+0200
TZNAME:CEST
DTSTART:20150329T010000
END:DAYLIGHT
BEGIN:STANDARD
TZOFFSETFROM:+0200
TZOFFSETTO:+0100
TZNAME:CET
DTSTART:20151025T010000
END:STANDARD
END:VTIMEZONE
BEGIN:VEVENT
DTSTART;TZID=Europe/Oslo:20151214T150000
DTEND;TZID=Europe/Oslo:20151214T170000
DTSTAMP:20260420T090329
CREATED:20151008T112523Z
LAST-MODIFIED:20151008T112523Z
UID:126-1450105200-1450112400@ffp.no
SUMMARY:Julekonsert med Oslo Filharmonien
DESCRIPTION:
URL:https://ffp.no/aktivitet/julekonsert-med-oslo-filharmonien/
LOCATION:Oslo\, Oslo\, Norge
GEO:59.9138688;10.7522454
END:VEVENT
END:VCALENDAR