BEGIN:VCALENDAR
VERSION:2.0
PRODID:-//For Fangers Pårørende - ECPv4.9.13//NONSGML v1.0//EN
CALSCALE:GREGORIAN
METHOD:PUBLISH
X-WR-CALNAME:For Fangers Pårørende
X-ORIGINAL-URL:https://ffp.no
X-WR-CALDESC:Events for For Fangers Pårørende
BEGIN:VTIMEZONE
TZID:Europe/Oslo
BEGIN:DAYLIGHT
TZOFFSETFROM:+0100
TZOFFSETTO:+0200
TZNAME:CEST
DTSTART:20210328T010000
END:DAYLIGHT
BEGIN:STANDARD
TZOFFSETFROM:+0200
TZOFFSETTO:+0100
TZNAME:CET
DTSTART:20211031T010000
END:STANDARD
END:VTIMEZONE
BEGIN:VEVENT
DTSTART;TZID=Europe/Oslo:20210429T170000
DTEND;TZID=Europe/Oslo:20210429T180000
DTSTAMP:20260419T120726
CREATED:20210413T122028Z
LAST-MODIFIED:20210413T122551Z
UID:435457-1619715600-1619719200@ffp.no
SUMMARY:Hele landet\, FFP Ung: Digital fossilutgraving!
DESCRIPTION:Bli med å grave ut ekte fossiler! Vi sender et fossilutgravingsett hjem til deg\, og så leter vi etter skatter sammen når vi møtes på videotreff torsdag 29. april fra kl. 17 til 18.  \nPåmelding innen fredag 9. april. Begrenset antall.  \n \n
URL:https://ffp.no/aktivitet/hele-landet-ffp-ung-digital-fossilutgraving/
LOCATION:Online
END:VEVENT
END:VCALENDAR