BEGIN:VCALENDAR
VERSION:2.0
PRODID:-//For Fangers Pårørende - ECPv4.9.13//NONSGML v1.0//EN
CALSCALE:GREGORIAN
METHOD:PUBLISH
X-WR-CALNAME:For Fangers Pårørende
X-ORIGINAL-URL:https://ffp.no
X-WR-CALDESC:Events for For Fangers Pårørende
BEGIN:VTIMEZONE
TZID:Europe/Oslo
BEGIN:DAYLIGHT
TZOFFSETFROM:+0100
TZOFFSETTO:+0200
TZNAME:CEST
DTSTART:20210328T010000
END:DAYLIGHT
BEGIN:STANDARD
TZOFFSETFROM:+0200
TZOFFSETTO:+0100
TZNAME:CET
DTSTART:20211031T010000
END:STANDARD
END:VTIMEZONE
BEGIN:VEVENT
DTSTART;TZID=Europe/Oslo:20210419T193000
DTEND;TZID=Europe/Oslo:20210419T210000
DTSTAMP:20260419T121632
CREATED:20210413T123719Z
LAST-MODIFIED:20210413T123949Z
UID:435462-1618860600-1618866000@ffp.no
SUMMARY:Hele landet: Digitalt foreldretreff
DESCRIPTION:Digitalt treff deg som har en sønn eller datter i fengsel fra kl. 19.30 til 21.00. \nMøt andre foreldre og rådgivere i FFP.  \nPåmelding innen fredag 16. april!  \n
URL:https://ffp.no/aktivitet/hele-landet-digitalt-foreldretreff/
LOCATION:Online
END:VEVENT
END:VCALENDAR