BEGIN:VCALENDAR
VERSION:2.0
PRODID:-//For Fangers Pårørende - ECPv4.9.13//NONSGML v1.0//EN
CALSCALE:GREGORIAN
METHOD:PUBLISH
X-WR-CALNAME:For Fangers Pårørende
X-ORIGINAL-URL:https://ffp.no
X-WR-CALDESC:Events for For Fangers Pårørende
BEGIN:VTIMEZONE
TZID:Europe/Oslo
BEGIN:DAYLIGHT
TZOFFSETFROM:+0100
TZOFFSETTO:+0200
TZNAME:CEST
DTSTART:20210328T010000
END:DAYLIGHT
BEGIN:STANDARD
TZOFFSETFROM:+0200
TZOFFSETTO:+0100
TZNAME:CET
DTSTART:20211031T010000
END:STANDARD
END:VTIMEZONE
BEGIN:VEVENT
DTSTART;TZID=Europe/Oslo:20210511T113000
DTEND;TZID=Europe/Oslo:20210511T130000
DTSTAMP:20260419T121457
CREATED:20210413T124202Z
LAST-MODIFIED:20210413T124247Z
UID:435468-1620732600-1620738000@ffp.no
SUMMARY:Hele landet: Digitalt "åpent hus" i lunsjen!
DESCRIPTION:Vi inviterer til «åpent hus» i lunsjen fra kl. 11.30 til 13.  \nMøt andre pårørende og rådgivere i FFP.  \n  \nPåmelding innen fredag 7. mai. \nAlle de digitale treffene finner sted på FFPs plattform «Whereby». Du får tilsendt en lenke på epost før treffet\, og det er ikke behov for å laste ned noe særskilt.  \n
URL:https://ffp.no/aktivitet/hele-landet-digitalt-apent-hus-i-lunsjen/
LOCATION:Online
END:VEVENT
END:VCALENDAR