BEGIN:VCALENDAR
VERSION:2.0
PRODID:-//For Fangers Pårørende - ECPv4.9.13//NONSGML v1.0//EN
CALSCALE:GREGORIAN
METHOD:PUBLISH
X-WR-CALNAME:For Fangers Pårørende
X-ORIGINAL-URL:https://ffp.no
X-WR-CALDESC:Events for For Fangers Pårørende
BEGIN:VTIMEZONE
TZID:Europe/Oslo
BEGIN:DAYLIGHT
TZOFFSETFROM:+0100
TZOFFSETTO:+0200
TZNAME:CEST
DTSTART:20200329T010000
END:DAYLIGHT
BEGIN:STANDARD
TZOFFSETFROM:+0200
TZOFFSETTO:+0100
TZNAME:CET
DTSTART:20201025T010000
END:STANDARD
END:VTIMEZONE
BEGIN:VEVENT
DTSTART;TZID=Europe/Oslo:20200310T090000
DTEND;TZID=Europe/Oslo:20200310T130000
DTSTAMP:20260419T235408
CREATED:20200206T122629Z
LAST-MODIFIED:20200206T122629Z
UID:434859-1583830800-1583845200@ffp.no
SUMMARY:Bodø: Tilbud om samtaler
DESCRIPTION:Treff og samtaler i Bodø for pårørende til innsatte og straffedømte \nHar du et familiemedlem i fengsel eller som soner straff utenfor fengsel? For Fangers Pårørende (FFP) ønsker velkommen til treff for pårørende til innsatte/straffedømte. \n– Få informasjon om FFP\, få svar på spørsmål\n– Del erfaringer fra å besøke i fengsel osv.\n– Møt andre i en lignende situasjon\n– Kom gjerne med innspill og ønsker \nFFP jobber for å bedre situasjonen for pårørende til innsatte. \nSamtale med rådgiver\nDu kan også avtale tid for individuell samtale eller familiesamtale med rådgivere fra FFP. \nPÅRØRENDETREFF \nTid: Mandag 9. mars kl. 18-20\nSted: Kirkens Bymisjon\, Bankgata 9\nEnkel servering. Ta gjerne med en venn om du vil.\n\nSAMTALER MED RÅDGIVER \nTid: Tirsdag 10. mars i tidsrommet kl. 09-13 \nPåmeldingsfrist (begge deler): Torsdag 05.mars\nE-post: trondelag@ffp.no\, telefon 73 51 19 29 eller SMS 940 03 120 \nLang/dyr reisevei? – Ta kontakt for å høre om mulighet for reisestøtte!\n\nVi håper mange har lyst til å komme til treffet\, og ønsker velkommen!\nTa gjerne kontakt om du har spørsmål\, innspill eller ønsker mer informasjon. \n
URL:https://ffp.no/aktivitet/bodo-tilbud-om-samtaler/
END:VEVENT
END:VCALENDAR