BEGIN:VCALENDAR
VERSION:2.0
PRODID:-//For Fangers Pårørende - ECPv4.9.13//NONSGML v1.0//EN
CALSCALE:GREGORIAN
METHOD:PUBLISH
X-WR-CALNAME:For Fangers Pårørende
X-ORIGINAL-URL:https://ffp.no
X-WR-CALDESC:Events for For Fangers Pårørende
BEGIN:VTIMEZONE
TZID:Europe/Oslo
BEGIN:DAYLIGHT
TZOFFSETFROM:+0100
TZOFFSETTO:+0200
TZNAME:CEST
DTSTART:20240331T010000
END:DAYLIGHT
BEGIN:STANDARD
TZOFFSETFROM:+0200
TZOFFSETTO:+0100
TZNAME:CET
DTSTART:20241027T010000
END:STANDARD
END:VTIMEZONE
BEGIN:VEVENT
DTSTART;TZID=Europe/Oslo:20240605T170000
DTEND;TZID=Europe/Oslo:20240605T190000
DTSTAMP:20260424T015718
CREATED:20240418T063834Z
LAST-MODIFIED:20240418T063834Z
UID:436337-1717606800-1717614000@ffp.no
SUMMARY:Bodø: Pårørendetreff
DESCRIPTION:Velkommen til pårørendetreff i Bodø onsdag 8. mai kl. 17-19 hos Tusenhjemmet. \nVi inviterer til uformelt treff for pårørende til varetektsinnsatte og domfelte i Bodø og omegn. \nDet vil bli servert kaffe/te og søtmat. \nTreffet ledes av Per Lind\, frivillig i FFP. \nPåmelding til trondelag@ffp.no eller 940 03 120 senest to dager før innen kl. 12. \n
URL:https://ffp.no/aktivitet/bodo-parorendetreff-6/
END:VEVENT
END:VCALENDAR