BEGIN:VCALENDAR
VERSION:2.0
PRODID:-//For Fangers Pårørende - ECPv4.9.13//NONSGML v1.0//EN
CALSCALE:GREGORIAN
METHOD:PUBLISH
X-WR-CALNAME:For Fangers Pårørende
X-ORIGINAL-URL:https://ffp.no
X-WR-CALDESC:Events for For Fangers Pårørende
BEGIN:VTIMEZONE
TZID:Europe/Oslo
BEGIN:DAYLIGHT
TZOFFSETFROM:+0100
TZOFFSETTO:+0200
TZNAME:CEST
DTSTART:20240331T010000
END:DAYLIGHT
BEGIN:STANDARD
TZOFFSETFROM:+0200
TZOFFSETTO:+0100
TZNAME:CET
DTSTART:20241027T010000
END:STANDARD
END:VTIMEZONE
BEGIN:VEVENT
DTSTART;TZID=Europe/Oslo:20240229T083000
DTEND;TZID=Europe/Oslo:20240229T143000
DTSTAMP:20260424T065036
CREATED:20240214T123102Z
LAST-MODIFIED:20240214T123102Z
UID:436302-1709195400-1709217000@ffp.no
SUMMARY:Bergen: Tilbud om samtaler
DESCRIPTION:Har du behov for en samtale? Alene eller sammen med familien din? \nVi tilbyr samtaler på dagtid mellom 08.30 og 14.30. Førstemann/kvinne til mølla. \nFor spørsmål og påmelding: post@ffp.no \n
URL:https://ffp.no/aktivitet/bergen-tilbud-om-samtaler/
END:VEVENT
END:VCALENDAR