BEGIN:VCALENDAR
VERSION:2.0
PRODID:-//For Fangers Pårørende - ECPv4.9.13//NONSGML v1.0//EN
CALSCALE:GREGORIAN
METHOD:PUBLISH
X-WR-CALNAME:For Fangers Pårørende
X-ORIGINAL-URL:https://ffp.no
X-WR-CALDESC:Events for For Fangers Pårørende
BEGIN:VTIMEZONE
TZID:Europe/Oslo
BEGIN:DAYLIGHT
TZOFFSETFROM:+0100
TZOFFSETTO:+0200
TZNAME:CEST
DTSTART:20230326T010000
END:DAYLIGHT
BEGIN:STANDARD
TZOFFSETFROM:+0200
TZOFFSETTO:+0100
TZNAME:CET
DTSTART:20231029T010000
END:STANDARD
END:VTIMEZONE
BEGIN:VEVENT
DTSTART;TZID=Europe/Oslo:20231114T163000
DTEND;TZID=Europe/Oslo:20231114T210000
DTSTAMP:20260424T130813
CREATED:20230912T070333Z
LAST-MODIFIED:20230912T070333Z
UID:436178-1699979400-1699995600@ffp.no
SUMMARY:Bergen: Teater og ut å spise
DESCRIPTION:Bli med å se Jul i Svingen på Den Nasjonale Scene kl. 16:30. Vi går så og spiser på Egon Bristol kl. 19. Om du ønsker kan du komme direkte til Egon. \nDagen etter (15.11) tilbyr vi samtaler med våre rådgivere. \nFor påmelding og mer informasjon\, ta kontakt på post@ffp.no \n
URL:https://ffp.no/aktivitet/bergen-teater-og-ut-a-spise/
END:VEVENT
END:VCALENDAR