BEGIN:VCALENDAR
VERSION:2.0
PRODID:-//For Fangers Pårørende - ECPv4.9.13//NONSGML v1.0//EN
CALSCALE:GREGORIAN
METHOD:PUBLISH
X-WR-CALNAME:For Fangers Pårørende
X-ORIGINAL-URL:https://ffp.no
X-WR-CALDESC:Events for For Fangers Pårørende
BEGIN:VTIMEZONE
TZID:Europe/Oslo
BEGIN:DAYLIGHT
TZOFFSETFROM:+0100
TZOFFSETTO:+0200
TZNAME:CEST
DTSTART:20240331T010000
END:DAYLIGHT
BEGIN:STANDARD
TZOFFSETFROM:+0200
TZOFFSETTO:+0100
TZNAME:CET
DTSTART:20241027T010000
END:STANDARD
END:VTIMEZONE
BEGIN:VEVENT
DTSTART;TZID=Europe/Oslo:20240228T163000
DTEND;TZID=Europe/Oslo:20240228T183000
DTSTAMP:20260424T064918
CREATED:20240214T122754Z
LAST-MODIFIED:20240214T122754Z
UID:436298-1709137800-1709145000@ffp.no
SUMMARY:Bergen: Kino
DESCRIPTION:Bli med oss å se familiefilmen Wonka (med norsk tale) på Bergen kino! \nPåmeldingsfrist 20. februar kl. 12. \nFor spørsmål og påmelding: post@ffp.no \n
URL:https://ffp.no/aktivitet/bergen-kino/
END:VEVENT
END:VCALENDAR